Workbook
Name Account: 'Accounting data'!$A$1
Name ActualTotalFederalAndStateProjects: 'Page 8'!$K$42
Name ActualTotalInstImpExp: 'Page 4'!$I$11
Name AddlInstrImprProjEndBal: 'Page 4'!$F$20
Name Allocation_to_Schools_2: "TextBox 1"
Name CashBal: 'Page 6'!$F$6
Name CIP1072EndBal: 'Page 5'!$P$48
Name CSPEndBal: 'Page 3'!$F$31
Name District_Name: 'School listing'!$A$1
Name FP11001130EndBal: 'Page 8'!$N$6
Name FP11401150EndBal: 'Page 8'!$N$7
Name FP1160EndBal: 'Page 8'!$N$8
Name FP11701180EndBal: 'Page 8'!$N$9
Name FP1190EndBal: 'Page 8'!$N$10
Name FP1200EndBal: 'Page 8'!$N$11
Name FP1210EndBal: 'Page 8'!$N$12
Name FP1220EndBal: 'Page 8'!$N$13
Name FP1230EndBal: 'Page 8'!$N$14
Name FP1240EndBal: 'Page 8'!$N$15
Name FP1250EndBal: 'Page 8'!$N$16
Name FP1260EndBal: 'Page 8'!$N$17
Name FP1280EndBal: 'Page 8'!$N$18
Name FP1290EndBal: 'Page 8'!$N$19
Name FP1300EndBal: 'Page 8'!$N$20
Name FP13101399EndBal: 'Page 8'!$N$22
Name FP13XXImpactAidEndBal: 'Page 8'!$N$21
Name PriorYearSalary: 'Page 6'!$T$30
Name SchoolwideEndBal: Summary!$K$17
Name SEIP1071EndBal: 'Page 5'!$P$26
Name SP1000ClassSiteProj: 'Page 2'!$J$43
Name SP1000CompInstrProj: 'Page 2'!$J$46
Name SP1000FedStProj: 'Page 2'!$J$47
Name SP1000InstrImpProj: 'Page 2'!$J$44
Name SP1000P100F1000: 'Page 2'!$J$7
Name SP1000P100F2100: 'Page 2'!$J$9
Name SP1000P100F2200: 'Page 2'!$J$10
Name SP1000P100F2300: 'Page 2'!$J$11
Name SP1000P100F2400: 'Page 2'!$J$12
Name SP1000P100F2500: 'Page 2'!$J$13
Name SP1000P100F2600: 'Page 2'!$J$14
Name SP1000P100F2900: 'Page 2'!$J$15
Name SP1000P100F3000: 'Page 2'!$J$16
Name SP1000P100F4000: 'Page 2'!$J$17
Name SP1000P100F5000: 'Page 2'!$J$18
Name SP1000P200F1000: 'Page 2'!$J$25
Name SP1000P200F2100: 'Page 2'!$J$27
Name SP1000P200F2200: 'Page 2'!$J$28
Name SP1000P200F2300: 'Page 2'!$J$29
Name SP1000P200F2400: 'Page 2'!$J$30
Name SP1000P200F2500: 'Page 2'!$J$31
Name SP1000P200F2600: 'Page 2'!$J$32
Name SP1000P200F2900: 'Page 2'!$J$33
Name SP1000P200F3000: 'Page 2'!$J$34
Name SP1000P200F4000: 'Page 2'!$J$35
Name SP1000P200F5000: 'Page 2'!$J$36
Name SP1000P400: 'Page 2'!$J$38
Name SP1000P530: 'Page 2'!$J$39
Name SP1000P540: 'Page 2'!$J$40
Name SP1000P550: 'Page 2'!$J$41
Name SP1000P610: 'Page 2'!$J$19

Sheet Cover Page
A1: Charter school | D1: Edge School, Inc., The | L1: County | M1: Pima | Q1: CTDS number | R1: 108653000
D2: Charter name
D3: Edge High School
D4: d.b.a. (as applicable)
B6: FY 2026
B7: State of Arizona
B8: Charter School Annual Financial Report
B10: =IF('Page 2'!N9="","","Checking the box to the left certifies the Charter did not incur any expenses for student support services, as defined in the USFRCS and reported on Page 2, Line 2, during the fiscal year.")
A11: Charter website link of posted AFR | D11: https://edgehighschool.org/charter-transparency/
B12: =IF('Page 2'!N10="","","Checking the box to the left certifies the Charter did not incur any expenses for instructional support services, as defined in the USFRCS and reported on Page 2, Line 3, during the fiscal year.")
B14: =IF('Page 3'!M12="","","Checking the box to the left certifies the Charter did not incur any expenses for Classroom Site Project, as reported on Page 3, during the fiscal year.")
B16: =IF('Page 6'!H33="","","Checking the box to the left certifies the Charter did not incur any current expenses for student support services, as defined in the USFRCS and reported on Page 6-Section E-Line 4, during the fiscal year.")
B18: =IF('Page 4'!K10="","","Checking the box to the left certifies the Charter did not incur any expenses for Instructional Improvement Project, as defined in the USFRCS and reported on Page 4, Line 5, during the fiscal year.")
B19: We, the Governing Board of the Charter School, hereby certify the Annual Financial Report and School Level Reporting form per A.R.S. §§15-183(E)(6) and 15-904 for Fiscal Year 2026. | L19: The annual financial report file(s) for FY 2026 uploaded to the Arizona Department of
L20: Education's website on | N20: 09/14/2026 | O20: contain(s) the data for the annual financial report | Z20: X
L21: described at left.
P23: robp@edgehighschool.org
L24: Charter school official signature | P24: Email
L25: Rob Pecharich
L26: Charter school official (typed name)
P28: anneo@edgehighschool.org
L29: Charter school official signature | P29: Email
L30: Anne Ortiz
L31: Charter school official (typed name)
L32: Total expenses by project
L33: 1. Schoolwide and Other Special Projects (from page 2, line 33) | P33: $ | Q33: =TotExpSchoolwide -> 1561660
A34: Signed | G34: Title | L34: 2. Classroom Site Project (from page 2, line 34) | P34: $ | Q34: =SP1000ClassSiteProj -> 177403

Sheet Page 1
A1: Charter school | C1: ='Cover Page'!D1 -> Edge School, Inc., The | G1: County | H1: ='Cover Page'!M1 -> Pima | L1: CTDS number | M1: ='Cover Page'!R1 -> 108653000
A3: Revenue
A4: 1000 Local sources | H4: Actual
A5: 1. | B5: 1310 Tuition from individuals | H5: =-(SUMIFS('Accounting data'!$G$2:$G$37000,'Accounting data'!$K$2:$K$37000,"1310*"))+SUMIFS('Accounting data'!$G$2:$G$37000,'Accounting data'!$H$2:$H$37000,"9999*",'Accounting data'!$K$2:$K$37000,"1310*") -> 0 | I5: 1.
A6: 2. | B6: 1320 Tuition from other Arizona schools or districts | H6: =-(SUMIFS('Accounting data'!$G$2:$G$37000,'Accounting data'!$K$2:$K$37000,"1320*"))+SUMIFS('Accounting data'!$G$2:$G$37000,'Accounting data'!$H$2:$H$37000,"9999*",'Accounting data'!$K$2:$K$37000,"1320*") -> 0 | I6: 2.
A7: 3. | B7: 1410 Transportation fees from individuals | H7: =-(SUMIFS('Accounting data'!$G$2:$G$37000,'Accounting data'!$K$2:$K$37000,"1410*"))+SUMIFS('Accounting data'!$G$2:$G$37000,'Accounting data'!$H$2:$H$37000,"9999*",'Accounting data'!$K$2:$K$37000,"1410*") -> 0 | I7: 3. | J7: 1600 Food service revenues (from accounting data)
A8: 4. | B8: 1420 Transportation fees from other Arizona schools or districts | H8: =-(SUMIFS('Accounting data'!$G$2:$G$37000,'Accounting data'!$K$2:$K$37000,"1420*"))+SUMIFS('Accounting data'!$G$2:$G$37000,'Accounting data'!$H$2:$H$37000,"9999*",'Accounting data'!$K$2:$K$37000,"1420*") -> 0 | I8: 4.
A9: 5. | B9: 1500 Earnings on investments | H9: =-(SUMIFS('Accounting data'!$G$2:$G$37000,'Accounting data'!$K$2:$K$37000,"1500*"))+SUMIFS('Accounting data'!$G$2:$G$37000,'Accounting data'!$H$2:$H$37000,"9999*",'Accounting data'!$K$2:$K$37000,"1500*") -> 651 | I9: 5.
A10: 6. | B10: 1600 Food service (from Food Service tab, line 2) | H10: =IF('Food Service'!$E$7="",J10,'Food Service'!$E$7) -> 0 | I10: 6. | J10: =-(SUMIFS('Accounting data'!$G$2:$G$37000,'Accounting data'!$K$2:$K$37000,"1600*"))+SUMIFS('Accounting data'!$G$2:$G$37000,'Accounting data'!$H$2:$H$37000,"9999*",'Accounting data'!$K$2:$K$37000,"1600*") -> 0 | L10: =IF(H10<>J10,"The amount reported for 1600 food service revenue from the Food Service AFR does not agree to the amount in the Accounting Data Tab. Please verify the amounts and ensure they agree.","")
A11: 7. | B11: 1700 School activities | H11: =-(SUMIFS('Accounting data'!$G$2:$G$37000,'Accounting data'!$K$2:$K$37000,"1700*"))+SUMIFS('Accounting data'!$G$2:$G$37000,'Accounting data'!$H$2:$H$37000,"9999*",'Accounting data'!$K$2:$K$37000,"1700*") -> 0 | I11: 7.
A12: 8. | B12: 1750 Revenue from enterprise activities | H12: =-(SUMIFS('Accounting data'!$G$2:$G$37000,'Accounting data'!$K$2:$K$37000,"1750*"))+SUMIFS('Accounting data'!$G$2:$G$37000,'Accounting data'!$H$2:$H$37000,"9999*",'Accounting data'!$K$2:$K$37000,"1750*") -> 0 | I12: 8.
A13: 9. | B13: 1790 Extracurricular activities fees tax credit | H13: =-(SUMIFS('Accounting data'!$G$2:$G$37000,'Accounting data'!$K$2:$K$37000,"1790*"))+SUMIFS('Accounting data'!$G$2:$G$37000,'Accounting data'!$H$2:$H$37000,"9999*",'Accounting data'!$K$2:$K$37000,"1790*") -> 11887 | I13: 9.
A14: 10. | B14: 1800 Revenue from community services activities | H14: =-(SUMIFS('Accounting data'!$G$2:$G$37000,'Accounting data'!$K$2:$K$37000,"1800*"))+SUMIFS('Accounting data'!$G$2:$G$37000,'Accounting data'!$H$2:$H$37000,"9999*",'Accounting data'!$K$2:$K$37000,"1800*") -> 0 | I14: 10.
A15: 11. | B15: 1900, 1930, 1980, 1990 Other revenues and gains from local sources | H15: =-(SUMIFS('Accounting data'!$G$2:$G$37000,'Accounting data'!$K$2:$K$37000,"1900*"))+SUMIFS('Accounting data'!$G$2:$G$37000,'Accounting data'!$H$2:$H$37000,"9999*",'Accounting data'!$K$2:$K$37000,"1900*") -> 0 | I15: 11.
A16: 12. | B16: 1910 Rentals | H16: =-(SUMIFS('Accounting data'!$G$2:$G$37000,'Accounting data'!$K$2:$K$37000,"1910*"))+SUMIFS('Accounting data'!$G$2:$G$37000,'Accounting data'!$H$2:$H$37000,"9999*",'Accounting data'!$K$2:$K$37000,"1910*") -> 8342 | I16: 12.
A17: 13. | B17: 1920 Contributions and donations from private sources | H17: =-(SUMIFS('Accounting data'!$G$2:$G$37000,'Accounting data'!$K$2:$K$37000,"1920*"))+SUMIFS('Accounting data'!$G$2:$G$37000,'Accounting data'!$H$2:$H$37000,"9999*",'Accounting data'!$K$2:$K$37000,"1920*") -> 165752 | I17: 13.
A18: 14. | B18: 1950 Miscellaneous Revenues from Other Schools or Districts | H18: =-(SUMIFS('Accounting data'!$G$2:$G$37000,'Accounting data'!$K$2:$K$37000,"1950*"))+SUMIFS('Accounting data'!$G$2:$G$37000,'Accounting data'!$H$2:$H$37000,"9999*",'Accounting data'!$K$2:$K$37000,"1950*") -> 0 | I18: 14.
A19: 15. | B19: 1960 Miscellaneous Revenues from Local Governmental Units | H19: =-(SUMIFS('Accounting data'!$G$2:$G$37000,'Accounting data'!$K$2:$K$37000,"1960*"))+SUMIFS('Accounting data'!$G$2:$G$37000,'Accounting data'!$H$2:$H$37000,"9999*",'Accounting data'!$K$2:$K$37000,"1960*") -> 0 | I19: 15.
A20: 16. | B20: Other revenue from local sources (specify) | H20: =-(SUMIFS('Accounting data'!$G$2:$G$37000,'Accounting data'!$K$2:$K$37000,"Other Revenue from Local Sources"))+SUMIFS('Accounting data'!$G$2:$G$37000,'Accounting data'!$H$2:$H$37000,"9999*",'Accounting data'!$K$2:$K$37000,"Other Revenue from Local Sources") -> 0 | I20: 16. | AA20: =IF(OR(AND(D20="",H20<>0),AND(D25="",H25<>0),AND(D32="",H32<>0),AND(D40="",H40<>0)),"yes","")
A21: 17. | B21: Total Local Revenue (lines 1-16) | H21: =-(SUMIFS('Accounting data'!$G$2:$G$37000,'Accounting data'!$K$2:$K$37000,"1*"))+SUMIFS('Accounting data'!$G$2:$G$37000,'Accounting data'!$H$2:$H$37000,"9999*",'Accounting data'!$K$2:$K$37000,"1*")+H20 -> 186633 | I21: 17.
A22: 2000 Intermediate sources
A23: 18. | B23: 2100 Unrestricted | H23: =-(SUMIFS('Accounting data'!$G$2:$G$37000,'Accounting data'!$K$2:$K$37000,"2100*"))+SUMIFS('Accounting data'!$G$2:$G$37000,'Accounting data'!$H$2:$H$37000,"9999*",'Accounting data'!$K$2:$K$37000,"2100*") -> 0 | I23: 18.
A24: 19. | B24: 2200 Restricted | H24: =-(SUMIFS('Accounting data'!$G$2:$G$37000,'Accounting data'!$K$2:$K$37000,"2200*"))+SUMIFS('Accounting data'!$G$2:$G$37000,'Accounting data'!$H$2:$H$37000,"9999*",'Accounting data'!$K$2:$K$37000,"2200*") -> 0 | I24: 19.
A25: 20. | B25: Other revenue from intermediate sources (specify) | H25: =-(SUMIFS('Accounting data'!$G$2:$G$37000,'Accounting data'!$K$2:$K$37000,"Other Revenue from Intermediate Sources"))+SUMIFS('Accounting data'!$G$2:$G$37000,'Accounting data'!$H$2:$H$37000,"9999*",'Accounting data'!$K$2:$K$37000,"Other Revenue from Intermediate Sources") -> 0 | I25: 20.
A26: 21. | B26: Total Intermediate Revenue (lines 18-20) | H26: =-(SUMIFS('Accounting data'!$G$2:$G$37000,'Accounting data'!$K$2:$K$37000,"2*"))+SUMIFS('Accounting data'!$G$2:$G$37000,'Accounting data'!$H$2:$H$37000,"9999*",'Accounting data'!$K$2:$K$37000,"2*")+H25 -> 0 | I26: 21.
A27: 3000 State sources
A28: 22. | B28: 3110 State Equalization Assistance | H28: =-(SUMIFS('Accounting data'!$G$2:$G$37000,'Accounting data'!$K$2:$K$37000,"3110*"))+SUMIFS('Accounting data'!$G$2:$G$37000,'Accounting data'!$H$2:$H$37000,"9999*",'Accounting data'!$K$2:$K$37000,"3110*") -> 1426924 | I28: 22.
A29: 23. | B29: 3130-3150 Other unrestricted | H29: =-(SUMIFS('Accounting data'!$G$2:$G$37000,'Accounting data'!$K$2:$K$37000,"3130*"))+SUMIFS('Accounting data'!$G$2:$G$37000,'Accounting data'!$H$2:$H$37000,"9999*",'Accounting data'!$K$2:$K$37000,"3130*") -> 19443 | I29: 23.
A30: 24. | B30: 3200 Restricted | H30: =-(SUMIFS('Accounting data'!$G$2:$G$37000,'Accounting data'!$K$2:$K$37000,"3200*"))+SUMIFS('Accounting data'!$G$2:$G$37000,'Accounting data'!$H$2:$H$37000,"9999*",'Accounting data'!$K$2:$K$37000,"3200*") -> 1576 | I30: 24.
A31: 25. | B31: 3900 Revenue for/on behalf of the school | H31: =-(SUMIFS('Accounting data'!$G$2:$G$37000,'Accounting data'!$K$2:$K$37000,"3900*"))+SUMIFS('Accounting data'!$G$2:$G$37000,'Accounting data'!$H$2:$H$37000,"9999*",'Accounting data'!$K$2:$K$37000,"3900*") -> 174465 | I31: 25.
A32: 26. | B32: Other revenue from State sources (specify) | H32: =-(SUMIFS('Accounting data'!$G$2:$G$37000,'Accounting data'!$K$2:$K$37000,"Other Revenue from State Sources"))+SUMIFS('Accounting data'!$G$2:$G$37000,'Accounting data'!$H$2:$H$37000,"9999*",'Accounting data'!$K$2:$K$37000,"Other Revenue from State Sources") -> 0 | I32: 26.
A33: 27. | B33: Total State Revenue (lines 22-26) | H33: =-(SUMIFS('Accounting data'!$G$2:$G$37000,'Accounting data'!$K$2:$K$37000,"3*"))+SUMIFS('Accounting data'!$G$2:$G$37000,'Accounting data'!$H$2:$H$37000,"9999*",'Accounting data'!$K$2:$K$37000,"3*")+H32 -> 1622408 | I33: 27.
A34: 4000 Federal sources
A35: 28. | B35: 4100, 4300 Unrestricted/restricted received directly from the federal government | H35: =-(SUMIFS('Accounting data'!$G$2:$G$37000,'Accounting data'!$K$2:$K$37000,"4100*"))+SUMIFS('Accounting data'!$G$2:$G$37000,'Accounting data'!$H$2:$H$37000,"9999*",'Accounting data'!$K$2:$K$37000,"4100*") -> 0 | I35: 28.
A36: 29. | B36: 4200, 4500 Unrestricted/restricted received from the federal government through the State | H36: =-(SUMIFS('Accounting data'!$G$2:$G$37000,'Accounting data'!$K$2:$K$37000,"4200*"))+SUMIFS('Accounting data'!$G$2:$G$37000,'Accounting data'!$H$2:$H$37000,"9999*",'Accounting data'!$K$2:$K$37000,"4200*") -> 139481 | I36: 29.
A37: 30. | B37: 4700 Revenue received from the federal government through other intermediate agencies | H37: =-(SUMIFS('Accounting data'!$G$2:$G$37000,'Accounting data'!$K$2:$K$37000,"4700*"))+SUMIFS('Accounting data'!$G$2:$G$37000,'Accounting data'!$H$2:$H$37000,"9999*",'Accounting data'!$K$2:$K$37000,"4700*") -> 0 | I37: 30.
A38: 31. | B38: 4800 Federal impact aid | H38: =-(SUMIFS('Accounting data'!$G$2:$G$37000,'Accounting data'!$K$2:$K$37000,"4800*"))+SUMIFS('Accounting data'!$G$2:$G$37000,'Accounting data'!$H$2:$H$37000,"9999*",'Accounting data'!$K$2:$K$37000,"4800*") -> 0 | I38: 31.
A39: 32. | B39: 4900 Revenue for/on behalf of the school | H39: =-(SUMIFS('Accounting data'!$G$2:$G$37000,'Accounting data'!$K$2:$K$37000,"4900*"))+SUMIFS('Accounting data'!$G$2:$G$37000,'Accounting data'!$H$2:$H$37000,"9999*",'Accounting data'!$K$2:$K$37000,"4900*") -> 0 | I39: 32.
A40: 33. | B40: Other revenue from federal sources (specify) | H40: =-(SUMIFS('Accounting data'!$G$2:$G$37000,'Accounting data'!$K$2:$K$37000,"Other Revenue from Federal Sources"))+SUMIFS('Accounting data'!$G$2:$G$37000,'Accounting data'!$H$2:$H$37000,"9999*",'Accounting data'!$K$2:$K$37000,"Other Revenue from Federal Sources") -> 0 | I40: 33.
A41: 34. | B41: Total Federal Revenue (lines 28-33) | H41: =-(SUMIFS('Accounting data'!$G$2:$G$37000,'Accounting data'!$K$2:$K$37000,"4*"))+SUMIFS('Accounting data'!$G$2:$G$37000,'Accounting data'!$H$2:$H$37000,"9999*",'Accounting data'!$K$2:$K$37000,"4*")+H40 -> 139481 | I41: 34.
...

Sheet Page 2
A1: Charter school | B1: ='Cover Page'!D1 -> Edge School, Inc., The | F1: County | G1: ='Cover Page'!M1 -> Pima | K1: CTDS number | L1: ='Cover Page'!R1 -> 108653000
E3: Employee | F3: Purchased | I3: Totals | L3: % Increase/ decrease in actual
A4: Expenses | D4: Salaries | E4: benefits | F4: services | G4: Supplies | H4: Other | K4: Prior year
A5: 1000 Schoolwide Project and 1500-1999 Other Special Projects | D5: 6100 | E5: 6200 | F5: 6300, 6400, 6500 | G5: 6600 | H5: 6800 | I5: Budget | J5: Actual | K5: actual
A6: 100 Regular education | L6: =IF(J7=K7,0,IF(K7>0,(J7-K7)/K7,"--")) -> -0.4041
A7: 1000 Instruction | C7: 1. | D7: =SUMIFS('Accounting data'!$G$2:$G$37000,'Accounting data'!$H$2:$H$37000,"1000*",'Accounting data'!$I$2:$I$37000,"1*",'Accounting data'!$J$2:$J$37000,"1*",'Accounting data'!$K$2:$K$37000,"61*")+SUMIFS('Accounting data'!$G$2:$G$37000,'Accounting data'!$H$2:$H$37000,"1500*",'Accounting data'!$I$2:$I$37000,"1*",'Accounting data'!$J$2:$J$37000,"1*",'Accounting data'!$K$2:$K$37000,"61*") -> 190654 | E7: =SUMIFS('Accounting data'!$G$2:$G$37000,'Accounting data'!$H$2:$H$37000,"1000*",'Accounting data'!$I$2:$I$37000,"1*",'Accounting data'!$J$2:$J$37000,"1*",'Accounting data'!$K$2:$K$37000,"62*")+SUMIFS('Accounting data'!$G$2:$G$37000,'Accounting data'!$H$2:$H$37000,"1500*",'Accounting data'!$I$2:$I$37000,"1*",'Accounting data'!$J$2:$J$37000,"1*",'Accounting data'!$K$2:$K$37000,"62*") -> 72363 | F7: =SUMIFS('Accounting data'!$G$2:$G$37000,'Accounting data'!$H$2:$H$37000,"1000*",'Accounting data'!$I$2:$I$37000,"1*",'Accounting data'!$J$2:$J$37000,"1*",'Accounting data'!$K$2:$K$37000,"63*")+SUMIFS('Accounting data'!$G$2:$G$37000,'Accounting data'!$H$2:$H$37000,"1500*",'Accounting data'!$I$2:$I$37000,"1*",'Accounting data'!$J$2:$J$37000,"1*",'Accounting data'!$K$2:$K$37000,"63*")+SUMIFS('Accounting data'!$G$2:$G$37000,'Accounting data'!$H$2:$H$37000,"1500*",'Accounting data'!$I$2:$I$37000,"1*",'Accounting data'!$J$2:$J$37000,"1*",'Accounting data'!$K$2:$K$37000,"6432*")+SUMIFS('Accounting data'!$G$2:$G$37000,'Accounting data'!$H$2:$H$37000,"1500*",'Accounting data'!$I$2:$I$37000,"1*",'Accounting data'!$J$2:$J$37000,"1*",'Accounting data'!$K$2:$K$37000,"6432*")+SUMIFS('Accounting data'!$G$2:$G$37000,'Accounting data'!$H$2:$H$37000,"1500*",'Accounting data'!$I$2:$I$37000,"1*",'Accounting data'!$J$2:$J$37000,"1*",'Accounting data'!$K$2:$K$37000,"6441*")+SUMIFS('Accounting data'!$G$2:$G$37000,'Accounting data'!$H$2:$H$37000,"1500*",'Accounting data'!$I$2:$I$37000,"1*",'Accounting data'!$J$2:$J$37000,"1*",'Accounting data'!$K$2:$K$37000,"6441*")+SUMIFS('Accounting data'!$G$2:$G$37000,'Accounting data'!$H$2:$H$37000,"1500*",'Accounting data'!$I$2:$I$37000,"1*",'Accounting data'!$J$2:$J$37000,"1*",'Accounting data'!$K$2:$K$37000,"6531*")+SUMIFS('Accounting data'!$G$2:$G$37000,'Accounting data'!$H$2:$H$37000,"1500*",'Accounting data'!$I$2:$I$37000,"1*",'Accounting data'!$J$2:$J$37000,"1*",'Accounting data'!$K$2:$K$37000,"6531*") -> 5643 | G7: =SUMIFS('Accounting data'!$G$2:$G$37000,'Accounting data'!$H$2:$H$37000,"1000*",'Accounting data'!$I$2:$I$37000,"1*",'Accounting data'!$J$2:$J$37000,"1*",'Accounting data'!$K$2:$K$37000,"66*")+SUMIFS('Accounting data'!$G$2:$G$37000,'Accounting data'!$H$2:$H$37000,"1500*",'Accounting data'!$I$2:$I$37000,"1*",'Accounting data'!$J$2:$J$37000,"1*",'Accounting data'!$K$2:$K$37000,"66*") -> 33599 | H7: =SUMIFS('Accounting data'!$G$2:$G$37000,'Accounting data'!$H$2:$H$37000,"1000*",'Accounting data'!$I$2:$I$37000,"1*",'Accounting data'!$J$2:$J$37000,"1*",'Accounting data'!$K$2:$K$37000,"68*")+SUMIFS('Accounting data'!$G$2:$G$37000,'Accounting data'!$H$2:$H$37000,"1500*",'Accounting data'!$I$2:$I$37000,"1*",'Accounting data'!$J$2:$J$37000,"1*",'Accounting data'!$K$2:$K$37000,"68*") -> 205 | I7: 338305 | J7: =SUM(D7:H7) -> 302464 | K7: 507579 | M7: 1.
A8: 2000 Support services | L8: =IF(J9=K9,0,IF(K9>0,(J9-K9)/K9,"--")) -> 0.2501
A9: 2100 Students | C9: 2. | D9: =SUMIFS('Accounting data'!$G$2:$G$37000,'Accounting data'!$H$2:$H$37000,"1000*",'Accounting data'!$I$2:$I$37000,"1*",'Accounting data'!$J$2:$J$37000,"21*",'Accounting data'!$K$2:$K$37000,"61*")+SUMIFS('Accounting data'!$G$2:$G$37000,'Accounting data'!$H$2:$H$37000,"1500*",'Accounting data'!$I$2:$I$37000,"1*",'Accounting data'!$J$2:$J$37000,"21*",'Accounting data'!$K$2:$K$37000,"61*") -> 145645 | E9: =SUMIFS('Accounting data'!$G$2:$G$37000,'Accounting data'!$H$2:$H$37000,"1000*",'Accounting data'!$I$2:$I$37000,"1*",'Accounting data'!$J$2:$J$37000,"21*",'Accounting data'!$K$2:$K$37000,"62*")+SUMIFS('Accounting data'!$G$2:$G$37000,'Accounting data'!$H$2:$H$37000,"1500*",'Accounting data'!$I$2:$I$37000,"1*",'Accounting data'!$J$2:$J$37000,"21*",'Accounting data'!$K$2:$K$37000,"62*") -> 43517 | F9: =SUMIFS('Accounting data'!$G$2:$G$37000,'Accounting data'!$H$2:$H$37000,"1000*",'Accounting data'!$I$2:$I$37000,"1*",'Accounting data'!$J$2:$J$37000,"21*",'Accounting data'!$K$2:$K$37000,"63*")+SUMIFS('Accounting data'!$G$2:$G$37000,'Accounting data'!$H$2:$H$37000,"1500*",'Accounting data'!$I$2:$I$37000,"1*",'Accounting data'!$J$2:$J$37000,"21*",'Accounting data'!$K$2:$K$37000,"63*") -> 19918 | G9: =SUMIFS('Accounting data'!$G$2:$G$37000,'Accounting data'!$H$2:$H$37000,"1000*",'Accounting data'!$I$2:$I$37000,"1*",'Accounting data'!$J$2:$J$37000,"21*",'Accounting data'!$K$2:$K$37000,"66*")+SUMIFS('Accounting data'!$G$2:$G$37000,'Accounting data'!$H$2:$H$37000,"1500*",'Accounting data'!$I$2:$I$37000,"1*",'Accounting data'!$J$2:$J$37000,"21*",'Accounting data'!$K$2:$K$37000,"66*") -> 2177 | H9: =SUMIFS('Accounting data'!$G$2:$G$37000,'Accounting data'!$H$2:$H$37000,"1000*",'Accounting data'!$I$2:$I$37000,"1*",'Accounting data'!$J$2:$J$37000,"21*",'Accounting data'!$K$2:$K$37000,"68*")+SUMIFS('Accounting data'!$G$2:$G$37000,'Accounting data'!$H$2:$H$37000,"1500*",'Accounting data'!$I$2:$I$37000,"1*",'Accounting data'!$J$2:$J$37000,"21*",'Accounting data'!$K$2:$K$37000,"68*") -> 62 | I9: 193815 | J9: =SUM(D9:H9) -> 211319 | K9: 169046 | M9: 2. | N9: =IF('Page 2'!J48=0,"",IF(OR('Page 2'!J9<=0),"The Charter did not report any expenses for student support services on line 2. If the Charter did not have any expense, verify by checking the box in A10 on the Cover Page.",""))
A10: 2200 Instruction | C10: 3. | D10: =SUMIFS('Accounting data'!$G$2:$G$37000,'Accounting data'!$H$2:$H$37000,"1000*",'Accounting data'!$I$2:$I$37000,"1*",'Accounting data'!$J$2:$J$37000,"22*",'Accounting data'!$K$2:$K$37000,"61*")+SUMIFS('Accounting data'!$G$2:$G$37000,'Accounting data'!$H$2:$H$37000,"1500*",'Accounting data'!$I$2:$I$37000,"1*",'Accounting data'!$J$2:$J$37000,"22*",'Accounting data'!$K$2:$K$37000,"61*") -> 4096 | E10: =SUMIFS('Accounting data'!$G$2:$G$37000,'Accounting data'!$H$2:$H$37000,"1000*",'Accounting data'!$I$2:$I$37000,"1*",'Accounting data'!$J$2:$J$37000,"22*",'Accounting data'!$K$2:$K$37000,"62*")+SUMIFS('Accounting data'!$G$2:$G$37000,'Accounting data'!$H$2:$H$37000,"1500*",'Accounting data'!$I$2:$I$37000,"1*",'Accounting data'!$J$2:$J$37000,"22*",'Accounting data'!$K$2:$K$37000,"62*") -> 1040 | F10: =SUMIFS('Accounting data'!$G$2:$G$37000,'Accounting data'!$H$2:$H$37000,"1000*",'Accounting data'!$I$2:$I$37000,"1*",'Accounting data'!$J$2:$J$37000,"22*",'Accounting data'!$K$2:$K$37000,"63*")+SUMIFS('Accounting data'!$G$2:$G$37000,'Accounting data'!$H$2:$H$37000,"1500*",'Accounting data'!$I$2:$I$37000,"1*",'Accounting data'!$J$2:$J$37000,"22*",'Accounting data'!$K$2:$K$37000,"63*") -> 594 | G10: =SUMIFS('Accounting data'!$G$2:$G$37000,'Accounting data'!$H$2:$H$37000,"1000*",'Accounting data'!$I$2:$I$37000,"1*",'Accounting data'!$J$2:$J$37000,"22*",'Accounting data'!$K$2:$K$37000,"66*")+SUMIFS('Accounting data'!$G$2:$G$37000,'Accounting data'!$H$2:$H$37000,"1500*",'Accounting data'!$I$2:$I$37000,"1*",'Accounting data'!$J$2:$J$37000,"22*",'Accounting data'!$K$2:$K$37000,"66*") -> 1925 | H10: =SUMIFS('Accounting data'!$G$2:$G$37000,'Accounting data'!$H$2:$H$37000,"1000*",'Accounting data'!$I$2:$I$37000,"1*",'Accounting data'!$J$2:$J$37000,"22*",'Accounting data'!$K$2:$K$37000,"68*")+SUMIFS('Accounting data'!$G$2:$G$37000,'Accounting data'!$H$2:$H$37000,"1500*",'Accounting data'!$I$2:$I$37000,"1*",'Accounting data'!$J$2:$J$37000,"22*",'Accounting data'!$K$2:$K$37000,"68*") -> 0 | I10: 6803 | J10: =SUM(D10:H10) -> 7655 | K10: 35602 | L10: =IF(J10=K10,0,IF(K10>0,(J10-K10)/K10,"--")) -> -0.785 | M10: 3. | N10: =IF('Page 2'!J48=0,"",IF(OR('Page 2'!J10<=0),"The Charter did not report any expenses for instructional support services on line 3. If the Charter did not have any expense, verify by checking the box in A12 on the Cover Page.",""))
A11: 2300 General administration | C11: 4. | D11: =SUMIFS('Accounting data'!$G$2:$G$37000,'Accounting data'!$H$2:$H$37000,"1000*",'Accounting data'!$I$2:$I$37000,"1*",'Accounting data'!$J$2:$J$37000,"23*",'Accounting data'!$K$2:$K$37000,"61*")+SUMIFS('Accounting data'!$G$2:$G$37000,'Accounting data'!$H$2:$H$37000,"1500*",'Accounting data'!$I$2:$I$37000,"1*",'Accounting data'!$J$2:$J$37000,"23*",'Accounting data'!$K$2:$K$37000,"61*") -> 0 | E11: =SUMIFS('Accounting data'!$G$2:$G$37000,'Accounting data'!$H$2:$H$37000,"1000*",'Accounting data'!$I$2:$I$37000,"1*",'Accounting data'!$J$2:$J$37000,"23*",'Accounting data'!$K$2:$K$37000,"62*")+SUMIFS('Accounting data'!$G$2:$G$37000,'Accounting data'!$H$2:$H$37000,"1500*",'Accounting data'!$I$2:$I$37000,"1*",'Accounting data'!$J$2:$J$37000,"23*",'Accounting data'!$K$2:$K$37000,"62*") -> 0 | F11: =SUMIFS('Accounting data'!$G$2:$G$37000,'Accounting data'!$H$2:$H$37000,"1000*",'Accounting data'!$I$2:$I$37000,"1*",'Accounting data'!$J$2:$J$37000,"23*",'Accounting data'!$K$2:$K$37000,"63*")+SUMIFS('Accounting data'!$G$2:$G$37000,'Accounting data'!$H$2:$H$37000,"1500*",'Accounting data'!$I$2:$I$37000,"1*",'Accounting data'!$J$2:$J$37000,"23*",'Accounting data'!$K$2:$K$37000,"63*") -> 17872 | G11: =SUMIFS('Accounting data'!$G$2:$G$37000,'Accounting data'!$H$2:$H$37000,"1000*",'Accounting data'!$I$2:$I$37000,"1*",'Accounting data'!$J$2:$J$37000,"23*",'Accounting data'!$K$2:$K$37000,"66*")+SUMIFS('Accounting data'!$G$2:$G$37000,'Accounting data'!$H$2:$H$37000,"1500*",'Accounting data'!$I$2:$I$37000,"1*",'Accounting data'!$J$2:$J$37000,"23*",'Accounting data'!$K$2:$K$37000,"66*") -> 161 | H11: =SUMIFS('Accounting data'!$G$2:$G$37000,'Accounting data'!$H$2:$H$37000,"1000*",'Accounting data'!$I$2:$I$37000,"1*",'Accounting data'!$J$2:$J$37000,"23*",'Accounting data'!$K$2:$K$37000,"68*")+SUMIFS('Accounting data'!$G$2:$G$37000,'Accounting data'!$H$2:$H$37000,"1500*",'Accounting data'!$I$2:$I$37000,"1*",'Accounting data'!$J$2:$J$37000,"23*",'Accounting data'!$K$2:$K$37000,"68*") -> 1640 | I11: 19618 | J11: =SUM(D11:H11) -> 19673 | K11: 23893 | L11: =IF(J11=K11,0,IF(K11>0,(J11-K11)/K11,"--")) -> -0.1766 | M11: 4.
A12: 2400 School administration | C12: 5. | D12: =SUMIFS('Accounting data'!$G$2:$G$37000,'Accounting data'!$H$2:$H$37000,"1000*",'Accounting data'!$I$2:$I$37000,"1*",'Accounting data'!$J$2:$J$37000,"24*",'Accounting data'!$K$2:$K$37000,"61*")+SUMIFS('Accounting data'!$G$2:$G$37000,'Accounting data'!$H$2:$H$37000,"1500*",'Accounting data'!$I$2:$I$37000,"1*",'Accounting data'!$J$2:$J$37000,"24*",'Accounting data'!$K$2:$K$37000,"61*") -> 143938 | E12: =SUMIFS('Accounting data'!$G$2:$G$37000,'Accounting data'!$H$2:$H$37000,"1000*",'Accounting data'!$I$2:$I$37000,"1*",'Accounting data'!$J$2:$J$37000,"24*",'Accounting data'!$K$2:$K$37000,"62*")+SUMIFS('Accounting data'!$G$2:$G$37000,'Accounting data'!$H$2:$H$37000,"1500*",'Accounting data'!$I$2:$I$37000,"1*",'Accounting data'!$J$2:$J$37000,"24*",'Accounting data'!$K$2:$K$37000,"62*") -> 45850 | F12: =SUMIFS('Accounting data'!$G$2:$G$37000,'Accounting data'!$H$2:$H$37000,"1000*",'Accounting data'!$I$2:$I$37000,"1*",'Accounting data'!$J$2:$J$37000,"24*",'Accounting data'!$K$2:$K$37000,"63*")+SUMIFS('Accounting data'!$G$2:$G$37000,'Accounting data'!$H$2:$H$37000,"1500*",'Accounting data'!$I$2:$I$37000,"1*",'Accounting data'!$J$2:$J$37000,"24*",'Accounting data'!$K$2:$K$37000,"63*") -> 64833 | G12: =SUMIFS('Accounting data'!$G$2:$G$37000,'Accounting data'!$H$2:$H$37000,"1000*",'Accounting data'!$I$2:$I$37000,"1*",'Accounting data'!$J$2:$J$37000,"24*",'Accounting data'!$K$2:$K$37000,"66*")+SUMIFS('Accounting data'!$G$2:$G$37000,'Accounting data'!$H$2:$H$37000,"1500*",'Accounting data'!$I$2:$I$37000,"1*",'Accounting data'!$J$2:$J$37000,"24*",'Accounting data'!$K$2:$K$37000,"66*") -> 3266 | H12: =SUMIFS('Accounting data'!$G$2:$G$37000,'Accounting data'!$H$2:$H$37000,"1000*",'Accounting data'!$I$2:$I$37000,"1*",'Accounting data'!$J$2:$J$37000,"24*",'Accounting data'!$K$2:$K$37000,"68*")+SUMIFS('Accounting data'!$G$2:$G$37000,'Accounting data'!$H$2:$H$37000,"1500*",'Accounting data'!$I$2:$I$37000,"1*",'Accounting data'!$J$2:$J$37000,"24*",'Accounting data'!$K$2:$K$37000,"68*") -> 11182 | I12: 264678 | J12: =SUM(D12:H12) -> 269069 | K12: 285313 | L12: =IF(J12=K12,0,IF(K12>0,(J12-K12)/K12,"--")) -> -0.0569 | M12: 5.
A13: 2500 Central services | C13: 6. | D13: =SUMIFS('Accounting data'!$G$2:$G$37000,'Accounting data'!$H$2:$H$37000,"1000*",'Accounting data'!$I$2:$I$37000,"1*",'Accounting data'!$J$2:$J$37000,"25*",'Accounting data'!$K$2:$K$37000,"61*")+SUMIFS('Accounting data'!$G$2:$G$37000,'Accounting data'!$H$2:$H$37000,"1500*",'Accounting data'!$I$2:$I$37000,"1*",'Accounting data'!$J$2:$J$37000,"25*",'Accounting data'!$K$2:$K$37000,"61*") -> 54874 | E13: =SUMIFS('Accounting data'!$G$2:$G$37000,'Accounting data'!$H$2:$H$37000,"1000*",'Accounting data'!$I$2:$I$37000,"1*",'Accounting data'!$J$2:$J$37000,"25*",'Accounting data'!$K$2:$K$37000,"62*")+SUMIFS('Accounting data'!$G$2:$G$37000,'Accounting data'!$H$2:$H$37000,"1500*",'Accounting data'!$I$2:$I$37000,"1*",'Accounting data'!$J$2:$J$37000,"25*",'Accounting data'!$K$2:$K$37000,"62*") -> 15303 | F13: =SUMIFS('Accounting data'!$G$2:$G$37000,'Accounting data'!$H$2:$H$37000,"1000*",'Accounting data'!$I$2:$I$37000,"1*",'Accounting data'!$J$2:$J$37000,"25*",'Accounting data'!$K$2:$K$37000,"63*")+SUMIFS('Accounting data'!$G$2:$G$37000,'Accounting data'!$H$2:$H$37000,"1500*",'Accounting data'!$I$2:$I$37000,"1*",'Accounting data'!$J$2:$J$37000,"25*",'Accounting data'!$K$2:$K$37000,"63*") -> 46655 | G13: =SUMIFS('Accounting data'!$G$2:$G$37000,'Accounting data'!$H$2:$H$37000,"1000*",'Accounting data'!$I$2:$I$37000,"1*",'Accounting data'!$J$2:$J$37000,"25*",'Accounting data'!$K$2:$K$37000,"66*")+SUMIFS('Accounting data'!$G$2:$G$37000,'Accounting data'!$H$2:$H$37000,"1500*",'Accounting data'!$I$2:$I$37000,"1*",'Accounting data'!$J$2:$J$37000,"25*",'Accounting data'!$K$2:$K$37000,"66*") -> 224 | H13: =SUMIFS('Accounting data'!$G$2:$G$37000,'Accounting data'!$H$2:$H$37000,"1000*",'Accounting data'!$I$2:$I$37000,"1*",'Accounting data'!$J$2:$J$37000,"25*",'Accounting data'!$K$2:$K$37000,"68*")+SUMIFS('Accounting data'!$G$2:$G$37000,'Accounting data'!$H$2:$H$37000,"1500*",'Accounting data'!$I$2:$I$37000,"1*",'Accounting data'!$J$2:$J$37000,"25*",'Accounting data'!$K$2:$K$37000,"68*") -> 20396 | I13: 127593 | J13: =SUM(D13:H13) -> 137452 | K13: 158160 | L13: =IF(J13=K13,0,IF(K13>0,(J13-K13)/K13,"--")) -> -0.1309 | M13: 6.
A14: 2600 Operation & maintenance of plant | C14: 7. | D14: =SUMIFS('Accounting data'!$G$2:$G$37000,'Accounting data'!$H$2:$H$37000,"1000*",'Accounting data'!$I$2:$I$37000,"1*",'Accounting data'!$J$2:$J$37000,"26*",'Accounting data'!$K$2:$K$37000,"61*")+SUMIFS('Accounting data'!$G$2:$G$37000,'Accounting data'!$H$2:$H$37000,"1500*",'Accounting data'!$I$2:$I$37000,"1*",'Accounting data'!$J$2:$J$37000,"26*",'Accounting data'!$K$2:$K$37000,"61*") -> 0 | E14: =SUMIFS('Accounting data'!$G$2:$G$37000,'Accounting data'!$H$2:$H$37000,"1000*",'Accounting data'!$I$2:$I$37000,"1*",'Accounting data'!$J$2:$J$37000,"26*",'Accounting data'!$K$2:$K$37000,"62*")+SUMIFS('Accounting data'!$G$2:$G$37000,'Accounting data'!$H$2:$H$37000,"1500*",'Accounting data'!$I$2:$I$37000,"1*",'Accounting data'!$J$2:$J$37000,"26*",'Accounting data'!$K$2:$K$37000,"62*") -> 127 | F14: =SUMIFS('Accounting data'!$G$2:$G$37000,'Accounting data'!$H$2:$H$37000,"1000*",'Accounting data'!$I$2:$I$37000,"1*",'Accounting data'!$J$2:$J$37000,"26*",'Accounting data'!$K$2:$K$37000,"63*")+SUMIFS('Accounting data'!$G$2:$G$37000,'Accounting data'!$H$2:$H$37000,"1500*",'Accounting data'!$I$2:$I$37000,"1*",'Accounting data'!$J$2:$J$37000,"26*",'Accounting data'!$K$2:$K$37000,"63*") -> 223778 | G14: =SUMIFS('Accounting data'!$G$2:$G$37000,'Accounting data'!$H$2:$H$37000,"1000*",'Accounting data'!$I$2:$I$37000,"1*",'Accounting data'!$J$2:$J$37000,"26*",'Accounting data'!$K$2:$K$37000,"66*")+SUMIFS('Accounting data'!$G$2:$G$37000,'Accounting data'!$H$2:$H$37000,"1500*",'Accounting data'!$I$2:$I$37000,"1*",'Accounting data'!$J$2:$J$37000,"26*",'Accounting data'!$K$2:$K$37000,"66*") -> 19499 | H14: =SUMIFS('Accounting data'!$G$2:$G$37000,'Accounting data'!$H$2:$H$37000,"1000*",'Accounting data'!$I$2:$I$37000,"1*",'Accounting data'!$J$2:$J$37000,"26*",'Accounting data'!$K$2:$K$37000,"68*")+SUMIFS('Accounting data'!$G$2:$G$37000,'Accounting data'!$H$2:$H$37000,"1500*",'Accounting data'!$I$2:$I$37000,"1*",'Accounting data'!$J$2:$J$37000,"26*",'Accounting data'!$K$2:$K$37000,"68*") -> 620 | I14: 240197 | J14: =SUM(D14:H14) -> 244024 | K14: 272842 | L14: =IF(J14=K14,0,IF(K14>0,(J14-K14)/K14,"--")) -> -0.1056 | M14: 7.
A15: 2900 Other support services | C15: 8. | D15: =SUMIFS('Accounting data'!$G$2:$G$37000,'Accounting data'!$H$2:$H$37000,"1000*",'Accounting data'!$I$2:$I$37000,"1*",'Accounting data'!$J$2:$J$37000,"29*",'Accounting data'!$K$2:$K$37000,"61*")+SUMIFS('Accounting data'!$G$2:$G$37000,'Accounting data'!$H$2:$H$37000,"1500*",'Accounting data'!$I$2:$I$37000,"1*",'Accounting data'!$J$2:$J$37000,"29*",'Accounting data'!$K$2:$K$37000,"61*") -> 0 | E15: =SUMIFS('Accounting data'!$G$2:$G$37000,'Accounting data'!$H$2:$H$37000,"1000*",'Accounting data'!$I$2:$I$37000,"1*",'Accounting data'!$J$2:$J$37000,"29*",'Accounting data'!$K$2:$K$37000,"62*")+SUMIFS('Accounting data'!$G$2:$G$37000,'Accounting data'!$H$2:$H$37000,"1500*",'Accounting data'!$I$2:$I$37000,"1*",'Accounting data'!$J$2:$J$37000,"29*",'Accounting data'!$K$2:$K$37000,"62*") -> 0 | F15: =SUMIFS('Accounting data'!$G$2:$G$37000,'Accounting data'!$H$2:$H$37000,"1000*",'Accounting data'!$I$2:$I$37000,"1*",'Accounting data'!$J$2:$J$37000,"29*",'Accounting data'!$K$2:$K$37000,"63*")+SUMIFS('Accounting data'!$G$2:$G$37000,'Accounting data'!$H$2:$H$37000,"1500*",'Accounting data'!$I$2:$I$37000,"1*",'Accounting data'!$J$2:$J$37000,"29*",'Accounting data'!$K$2:$K$37000,"63*") -> 0 | G15: =SUMIFS('Accounting data'!$G$2:$G$37000,'Accounting data'!$H$2:$H$37000,"1000*",'Accounting data'!$I$2:$I$37000,"1*",'Accounting data'!$J$2:$J$37000,"29*",'Accounting data'!$K$2:$K$37000,"66*")+SUMIFS('Accounting data'!$G$2:$G$37000,'Accounting data'!$H$2:$H$37000,"1500*",'Accounting data'!$I$2:$I$37000,"1*",'Accounting data'!$J$2:$J$37000,"29*",'Accounting data'!$K$2:$K$37000,"66*") -> 0 | H15: =SUMIFS('Accounting data'!$G$2:$G$37000,'Accounting data'!$H$2:$H$37000,"1000*",'Accounting data'!$I$2:$I$37000,"1*",'Accounting data'!$J$2:$J$37000,"29*",'Accounting data'!$K$2:$K$37000,"68*")+SUMIFS('Accounting data'!$G$2:$G$37000,'Accounting data'!$H$2:$H$37000,"1500*",'Accounting data'!$I$2:$I$37000,"1*",'Accounting data'!$J$2:$J$37000,"29*",'Accounting data'!$K$2:$K$37000,"68*") -> 0 | I15: 0 | J15: =SUM(D15:H15) -> 0 | K15: 0 | L15: =IF(J15=K15,0,IF(K15>0,(J15-K15)/K15,"--")) -> 0 | M15: 8.
A16: 3000 Operation of noninstructional services | C16: 9. | D16: =SUMIFS('Accounting data'!$G$2:$G$37000,'Accounting data'!$H$2:$H$37000,"1000*",'Accounting data'!$I$2:$I$37000,"1*",'Accounting data'!$J$2:$J$37000,"3*",'Accounting data'!$K$2:$K$37000,"61*")+SUMIFS('Accounting data'!$G$2:$G$37000,'Accounting data'!$H$2:$H$37000,"1500*",'Accounting data'!$I$2:$I$37000,"1*",'Accounting data'!$J$2:$J$37000,"3*",'Accounting data'!$K$2:$K$37000,"61*") -> 0 | E16: =SUMIFS('Accounting data'!$G$2:$G$37000,'Accounting data'!$H$2:$H$37000,"1000*",'Accounting data'!$I$2:$I$37000,"1*",'Accounting data'!$J$2:$J$37000,"3*",'Accounting data'!$K$2:$K$37000,"62*")+SUMIFS('Accounting data'!$G$2:$G$37000,'Accounting data'!$H$2:$H$37000,"1500*",'Accounting data'!$I$2:$I$37000,"1*",'Accounting data'!$J$2:$J$37000,"3*",'Accounting data'!$K$2:$K$37000,"62*") -> 0 | F16: =SUMIFS('Accounting data'!$G$2:$G$37000,'Accounting data'!$H$2:$H$37000,"1000*",'Accounting data'!$I$2:$I$37000,"1*",'Accounting data'!$J$2:$J$37000,"3*",'Accounting data'!$K$2:$K$37000,"63*")+SUMIFS('Accounting data'!$G$2:$G$37000,'Accounting data'!$H$2:$H$37000,"1500*",'Accounting data'!$I$2:$I$37000,"1*",'Accounting data'!$J$2:$J$37000,"3*",'Accounting data'!$K$2:$K$37000,"63*") -> 0 | G16: =SUMIFS('Accounting data'!$G$2:$G$37000,'Accounting data'!$H$2:$H$37000,"1000*",'Accounting data'!$I$2:$I$37000,"1*",'Accounting data'!$J$2:$J$37000,"3*",'Accounting data'!$K$2:$K$37000,"66*")+SUMIFS('Accounting data'!$G$2:$G$37000,'Accounting data'!$H$2:$H$37000,"1500*",'Accounting data'!$I$2:$I$37000,"1*",'Accounting data'!$J$2:$J$37000,"3*",'Accounting data'!$K$2:$K$37000,"66*") -> 0 | H16: =SUMIFS('Accounting data'!$G$2:$G$37000,'Accounting data'!$H$2:$H$37000,"1000*",'Accounting data'!$I$2:$I$37000,"1*",'Accounting data'!$J$2:$J$37000,"3*",'Accounting data'!$K$2:$K$37000,"68*")+SUMIFS('Accounting data'!$G$2:$G$37000,'Accounting data'!$H$2:$H$37000,"1500*",'Accounting data'!$I$2:$I$37000,"1*",'Accounting data'!$J$2:$J$37000,"3*",'Accounting data'!$K$2:$K$37000,"68*") -> 0 | I16: 0 | J16: =SUM(D16:H16) -> 0 | K16: 0 | L16: =IF(J16=K16,0,IF(K16>0,(J16-K16)/K16,"--")) -> 0 | M16: 9.
A17: 4000 Facilities acquisition & construction | C17: 10. | D17: =SUMIFS('Accounting data'!$G$2:$G$37000,'Accounting data'!$H$2:$H$37000,"1000*",'Accounting data'!$I$2:$I$37000,"1*",'Accounting data'!$J$2:$J$37000,"4*",'Accounting data'!$K$2:$K$37000,"61*")+SUMIFS('Accounting data'!$G$2:$G$37000,'Accounting data'!$H$2:$H$37000,"1500*",'Accounting data'!$I$2:$I$37000,"1*",'Accounting data'!$J$2:$J$37000,"4*",'Accounting data'!$K$2:$K$37000,"61*") -> 0 | E17: =SUMIFS('Accounting data'!$G$2:$G$37000,'Accounting data'!$H$2:$H$37000,"1000*",'Accounting data'!$I$2:$I$37000,"1*",'Accounting data'!$J$2:$J$37000,"4*",'Accounting data'!$K$2:$K$37000,"62*")+SUMIFS('Accounting data'!$G$2:$G$37000,'Accounting data'!$H$2:$H$37000,"1500*",'Accounting data'!$I$2:$I$37000,"1*",'Accounting data'!$J$2:$J$37000,"4*",'Accounting data'!$K$2:$K$37000,"62*") -> 0 | F17: =SUMIFS('Accounting data'!$G$2:$G$37000,'Accounting data'!$H$2:$H$37000,"1000*",'Accounting data'!$I$2:$I$37000,"1*",'Accounting data'!$J$2:$J$37000,"4*",'Accounting data'!$K$2:$K$37000,"63*")+SUMIFS('Accounting data'!$G$2:$G$37000,'Accounting data'!$H$2:$H$37000,"1500*",'Accounting data'!$I$2:$I$37000,"1*",'Accounting data'!$J$2:$J$37000,"4*",'Accounting data'!$K$2:$K$37000,"63*") -> 0 | G17: =SUMIFS('Accounting data'!$G$2:$G$37000,'Accounting data'!$H$2:$H$37000,"1000*",'Accounting data'!$I$2:$I$37000,"1*",'Accounting data'!$J$2:$J$37000,"4*",'Accounting data'!$K$2:$K$37000,"66*")+SUMIFS('Accounting data'!$G$2:$G$37000,'Accounting data'!$H$2:$H$37000,"1500*",'Accounting data'!$I$2:$I$37000,"1*",'Accounting data'!$J$2:$J$37000,"4*",'Accounting data'!$K$2:$K$37000,"66*") -> 0 | H17: =SUMIFS('Accounting data'!$G$2:$G$37000,'Accounting data'!$H$2:$H$37000,"1000*",'Accounting data'!$I$2:$I$37000,"1*",'Accounting data'!$J$2:$J$37000,"4*",'Accounting data'!$K$2:$K$37000,"68*")+SUMIFS('Accounting data'!$G$2:$G$37000,'Accounting data'!$H$2:$H$37000,"1500*",'Accounting data'!$I$2:$I$37000,"1*",'Accounting data'!$J$2:$J$37000,"4*",'Accounting data'!$K$2:$K$37000,"68*") -> 0 | I17: 0 | J17: =SUM(D17:H17) -> 0 | K17: 0 | L17: =IF(J17=K17,0,IF(K17>0,(J17-K17)/K17,"--")) -> 0 | M17: 10.
A18: 5000 Debt service | C18: 11. | D18: =SUMIFS('Accounting data'!$G$2:$G$37000,'Accounting data'!$H$2:$H$37000,"1000*",'Accounting data'!$I$2:$I$37000,"1*",'Accounting data'!$J$2:$J$37000,"5*",'Accounting data'!$K$2:$K$37000,"61*")+SUMIFS('Accounting data'!$G$2:$G$37000,'Accounting data'!$H$2:$H$37000,"1500*",'Accounting data'!$I$2:$I$37000,"1*",'Accounting data'!$J$2:$J$37000,"5*",'Accounting data'!$K$2:$K$37000,"61*") -> 0 | E18: =SUMIFS('Accounting data'!$G$2:$G$37000,'Accounting data'!$H$2:$H$37000,"1000*",'Accounting data'!$I$2:$I$37000,"1*",'Accounting data'!$J$2:$J$37000,"5*",'Accounting data'!$K$2:$K$37000,"62*")+SUMIFS('Accounting data'!$G$2:$G$37000,'Accounting data'!$H$2:$H$37000,"1500*",'Accounting data'!$I$2:$I$37000,"1*",'Accounting data'!$J$2:$J$37000,"5*",'Accounting data'!$K$2:$K$37000,"62*") -> 0 | F18: =SUMIFS('Accounting data'!$G$2:$G$37000,'Accounting data'!$H$2:$H$37000,"1000*",'Accounting data'!$I$2:$I$37000,"1*",'Accounting data'!$J$2:$J$37000,"5*",'Accounting data'!$K$2:$K$37000,"63*")+SUMIFS('Accounting data'!$G$2:$G$37000,'Accounting data'!$H$2:$H$37000,"1500*",'Accounting data'!$I$2:$I$37000,"1*",'Accounting data'!$J$2:$J$37000,"5*",'Accounting data'!$K$2:$K$37000,"63*") -> 0 | G18: =SUMIFS('Accounting data'!$G$2:$G$37000,'Accounting data'!$H$2:$H$37000,"1000*",'Accounting data'!$I$2:$I$37000,"1*",'Accounting data'!$J$2:$J$37000,"5*",'Accounting data'!$K$2:$K$37000,"66*")+SUMIFS('Accounting data'!$G$2:$G$37000,'Accounting data'!$H$2:$H$37000,"1500*",'Accounting data'!$I$2:$I$37000,"1*",'Accounting data'!$J$2:$J$37000,"5*",'Accounting data'!$K$2:$K$37000,"66*") -> 0 | H18: =SUMIFS('Accounting data'!$G$2:$G$37000,'Accounting data'!$H$2:$H$37000,"1000*",'Accounting data'!$I$2:$I$37000,"1*",'Accounting data'!$J$2:$J$37000,"5*",'Accounting data'!$K$2:$K$37000,"68*")+SUMIFS('Accounting data'!$G$2:$G$37000,'Accounting data'!$H$2:$H$37000,"1500*",'Accounting data'!$I$2:$I$37000,"1*",'Accounting data'!$J$2:$J$37000,"5*",'Accounting data'!$K$2:$K$37000,"68*") -> 173872 | I18: 170412 | J18: =SUM(D18:H18) -> 173872 | K18: 182777 | L18: =IF(J18=K18,0,IF(K18>0,(J18-K18)/K18,"--")) -> -0.0487 | M18: 11.
A19: 610 School-sponsored cocurricular activities | C19: 12. | D19: =SUMIFS('Accounting data'!$G$2:$G$37000,'Accounting data'!$H$2:$H$37000,"1000*",'Accounting data'!$I$2:$I$37000,"61*",'Accounting data'!$K$2:$K$37000,"61*")+SUMIFS('Accounting data'!$G$2:$G$37000,'Accounting data'!$H$2:$H$37000,"1500*",'Accounting data'!$I$2:$I$37000,"61*",'Accounting data'!$K$2:$K$37000,"61*") -> 0 | E19: =SUMIFS('Accounting data'!$G$2:$G$37000,'Accounting data'!$H$2:$H$37000,"1000*",'Accounting data'!$I$2:$I$37000,"61*",'Accounting data'!$K$2:$K$37000,"62*")+SUMIFS('Accounting data'!$G$2:$G$37000,'Accounting data'!$H$2:$H$37000,"1500*",'Accounting data'!$I$2:$I$37000,"61*",'Accounting data'!$K$2:$K$37000,"62*") -> 0 | F19: =SUMIFS('Accounting data'!$G$2:$G$37000,'Accounting data'!$H$2:$H$37000,"1000*",'Accounting data'!$I$2:$I$37000,"61*",'Accounting data'!$K$2:$K$37000,"63*")+SUMIFS('Accounting data'!$G$2:$G$37000,'Accounting data'!$H$2:$H$37000,"1500*",'Accounting data'!$I$2:$I$37000,"61*",'Accounting data'!$K$2:$K$37000,"63*") -> 0 | G19: =SUMIFS('Accounting data'!$G$2:$G$37000,'Accounting data'!$H$2:$H$37000,"1000*",'Accounting data'!$I$2:$I$37000,"61*",'Accounting data'!$K$2:$K$37000,"66*")+SUMIFS('Accounting data'!$G$2:$G$37000,'Accounting data'!$H$2:$H$37000,"1500*",'Accounting data'!$I$2:$I$37000,"61*",'Accounting data'!$K$2:$K$37000,"66*") -> 1545 | H19: =SUMIFS('Accounting data'!$G$2:$G$37000,'Accounting data'!$H$2:$H$37000,"1000*",'Accounting data'!$I$2:$I$37000,"61*",'Accounting data'!$K$2:$K$37000,"68*")+SUMIFS('Accounting data'!$G$2:$G$37000,'Accounting data'!$H$2:$H$37000,"1500*",'Accounting data'!$I$2:$I$37000,"61*",'Accounting data'!$K$2:$K$37000,"68*") -> 0 | I19: 0 | J19: =SUM(D19:H19) -> 1545 | K19: 0 | L19: =IF(J19=K19,0,IF(K19>0,(J19-K19)/K19,"--")) -> -- | M19: 12.
A20: 620 School-sponsored athletics | C20: 13. | D20: =SUMIFS('Accounting data'!$G$2:$G$37000,'Accounting data'!$H$2:$H$37000,"1000*",'Accounting data'!$I$2:$I$37000,"62*",'Accounting data'!$K$2:$K$37000,"61*")+SUMIFS('Accounting data'!$G$2:$G$37000,'Accounting data'!$H$2:$H$37000,"1500*",'Accounting data'!$I$2:$I$37000,"62*",'Accounting data'!$K$2:$K$37000,"61*") -> 0 | E20: =SUMIFS('Accounting data'!$G$2:$G$37000,'Accounting data'!$H$2:$H$37000,"1000*",'Accounting data'!$I$2:$I$37000,"62*",'Accounting data'!$K$2:$K$37000,"62*")+SUMIFS('Accounting data'!$G$2:$G$37000,'Accounting data'!$H$2:$H$37000,"1500*",'Accounting data'!$I$2:$I$37000,"62*",'Accounting data'!$K$2:$K$37000,"62*") -> 0 | F20: =SUMIFS('Accounting data'!$G$2:$G$37000,'Accounting data'!$H$2:$H$37000,"1000*",'Accounting data'!$I$2:$I$37000,"62*",'Accounting data'!$K$2:$K$37000,"63*")+SUMIFS('Accounting data'!$G$2:$G$37000,'Accounting data'!$H$2:$H$37000,"1500*",'Accounting data'!$I$2:$I$37000,"62*",'Accounting data'!$K$2:$K$37000,"63*") -> 0 | G20: =SUMIFS('Accounting data'!$G$2:$G$37000,'Accounting data'!$H$2:$H$37000,"1000*",'Accounting data'!$I$2:$I$37000,"62*",'Accounting data'!$K$2:$K$37000,"66*")+SUMIFS('Accounting data'!$G$2:$G$37000,'Accounting data'!$H$2:$H$37000,"1500*",'Accounting data'!$I$2:$I$37000,"62*",'Accounting data'!$K$2:$K$37000,"66*") -> 0 | H20: =SUMIFS('Accounting data'!$G$2:$G$37000,'Accounting data'!$H$2:$H$37000,"1000*",'Accounting data'!$I$2:$I$37000,"62*",'Accounting data'!$K$2:$K$37000,"68*")+SUMIFS('Accounting data'!$G$2:$G$37000,'Accounting data'!$H$2:$H$37000,"1500*",'Accounting data'!$I$2:$I$37000,"62*",'Accounting data'!$K$2:$K$37000,"68*") -> 0 | I20: 0 | J20: =SUM(D20:H20) -> 0 | K20: 0 | L20: =IF(J20=K20,0,IF(K20>0,(J20-K20)/K20,"--")) -> 0 | M20: 13.
A21: 630 Other instructional programs | C21: 14. | D21: =SUMIFS('Accounting data'!$G$2:$G$37000,'Accounting data'!$H$2:$H$37000,"1000*",'Accounting data'!$I$2:$I$37000,"63*",'Accounting data'!$K$2:$K$37000,"61*")+SUMIFS('Accounting data'!$G$2:$G$37000,'Accounting data'!$H$2:$H$37000,"1500*",'Accounting data'!$I$2:$I$37000,"63*",'Accounting data'!$K$2:$K$37000,"61*") -> 0 | E21: =SUMIFS('Accounting data'!$G$2:$G$37000,'Accounting data'!$H$2:$H$37000,"1000*",'Accounting data'!$I$2:$I$37000,"63*",'Accounting data'!$K$2:$K$37000,"62*")+SUMIFS('Accounting data'!$G$2:$G$37000,'Accounting data'!$H$2:$H$37000,"1500*",'Accounting data'!$I$2:$I$37000,"63*",'Accounting data'!$K$2:$K$37000,"62*") -> 0 | F21: =SUMIFS('Accounting data'!$G$2:$G$37000,'Accounting data'!$H$2:$H$37000,"1000*",'Accounting data'!$I$2:$I$37000,"63*",'Accounting data'!$K$2:$K$37000,"63*")+SUMIFS('Accounting data'!$G$2:$G$37000,'Accounting data'!$H$2:$H$37000,"1500*",'Accounting data'!$I$2:$I$37000,"63*",'Accounting data'!$K$2:$K$37000,"63*") -> 0 | G21: =SUMIFS('Accounting data'!$G$2:$G$37000,'Accounting data'!$H$2:$H$37000,"1000*",'Accounting data'!$I$2:$I$37000,"63*",'Accounting data'!$K$2:$K$37000,"66*")+SUMIFS('Accounting data'!$G$2:$G$37000,'Accounting data'!$H$2:$H$37000,"1500*",'Accounting data'!$I$2:$I$37000,"63*",'Accounting data'!$K$2:$K$37000,"66*") -> 0 | H21: =SUMIFS('Accounting data'!$G$2:$G$37000,'Accounting data'!$H$2:$H$37000,"1000*",'Accounting data'!$I$2:$I$37000,"63*",'Accounting data'!$K$2:$K$37000,"68*")+SUMIFS('Accounting data'!$G$2:$G$37000,'Accounting data'!$H$2:$H$37000,"1500*",'Accounting data'!$I$2:$I$37000,"63*",'Accounting data'!$K$2:$K$37000,"68*") -> 0 | I21: 0 | J21: =SUM(D21:H21) -> 0 | K21: 0 | L21: =IF(J21+J22=K22,0,IF(K22>0,(J21+J22-K22)/K22,"--")) -> 0 | M21: 14.
A22: 700, 800, 900 Other programs | C22: 15. | D22: =SUMIFS('Accounting data'!$G$2:$G$37000,'Accounting data'!$H$2:$H$37000,"1000*",'Accounting data'!$I$2:$I$37000,"7*",'Accounting data'!$K$2:$K$37000,"61*")+SUMIFS('Accounting data'!$G$2:$G$37000,'Accounting data'!$H$2:$H$37000,"1000*",'Accounting data'!$I$2:$I$37000,"8*",'Accounting data'!$K$2:$K$37000,"61*")+SUMIFS('Accounting data'!$G$2:$G$37000,'Accounting data'!$H$2:$H$37000,"1000*",'Accounting data'!$I$2:$I$37000,"9*",'Accounting data'!$K$2:$K$37000,"61*")+SUMIFS('Accounting data'!$G$2:$G$37000,'Accounting data'!$H$2:$H$37000,"1500*",'Accounting data'!$I$2:$I$37000,"7*",'Accounting data'!$K$2:$K$37000,"61*")+SUMIFS('Accounting data'!$G$2:$G$37000,'Accounting data'!$H$2:$H$37000,"1500*",'Accounting data'!$I$2:$I$37000,"8*",'Accounting data'!$K$2:$K$37000,"61*")+SUMIFS('Accounting data'!$G$2:$G$37000,'Accounting data'!$H$2:$H$37000,"1500*",'Accounting data'!$I$2:$I$37000,"9*",'Accounting data'!$K$2:$K$37000,"61*") -> 0 | E22: =SUMIFS('Accounting data'!$G$2:$G$37000,'Accounting data'!$H$2:$H$37000,"1000*",'Accounting data'!$I$2:$I$37000,"7*",'Accounting data'!$K$2:$K$37000,"62*")+SUMIFS('Accounting data'!$G$2:$G$37000,'Accounting data'!$H$2:$H$37000,"1000*",'Accounting data'!$I$2:$I$37000,"8*",'Accounting data'!$K$2:$K$37000,"62*")+SUMIFS('Accounting data'!$G$2:$G$37000,'Accounting data'!$H$2:$H$37000,"1000*",'Accounting data'!$I$2:$I$37000,"9*",'Accounting data'!$K$2:$K$37000,"62*")+SUMIFS('Accounting data'!$G$2:$G$37000,'Accounting data'!$H$2:$H$37000,"1500*",'Accounting data'!$I$2:$I$37000,"7*",'Accounting data'!$K$2:$K$37000,"62*")+SUMIFS('Accounting data'!$G$2:$G$37000,'Accounting data'!$H$2:$H$37000,"1500*",'Accounting data'!$I$2:$I$37000,"8*",'Accounting data'!$K$2:$K$37000,"62*")+SUMIFS('Accounting data'!$G$2:$G$37000,'Accounting data'!$H$2:$H$37000,"1500*",'Accounting data'!$I$2:$I$37000,"9*",'Accounting data'!$K$2:$K$37000,"62*") -> 0 | F22: =SUMIFS('Accounting data'!$G$2:$G$37000,'Accounting data'!$H$2:$H$37000,"1000*",'Accounting data'!$I$2:$I$37000,"7*",'Accounting data'!$K$2:$K$37000,"63*")+SUMIFS('Accounting data'!$G$2:$G$37000,'Accounting data'!$H$2:$H$37000,"1000*",'Accounting data'!$I$2:$I$37000,"8*",'Accounting data'!$K$2:$K$37000,"63*")+SUMIFS('Accounting data'!$G$2:$G$37000,'Accounting data'!$H$2:$H$37000,"1000*",'Accounting data'!$I$2:$I$37000,"9*",'Accounting data'!$K$2:$K$37000,"63*")+SUMIFS('Accounting data'!$G$2:$G$37000,'Accounting data'!$H$2:$H$37000,"1500*",'Accounting data'!$I$2:$I$37000,"7*",'Accounting data'!$K$2:$K$37000,"63*")+SUMIFS('Accounting data'!$G$2:$G$37000,'Accounting data'!$H$2:$H$37000,"1500*",'Accounting data'!$I$2:$I$37000,"8*",'Accounting data'!$K$2:$K$37000,"63*")+SUMIFS('Accounting data'!$G$2:$G$37000,'Accounting data'!$H$2:$H$37000,"1500*",'Accounting data'!$I$2:$I$37000,"9*",'Accounting data'!$K$2:$K$37000,"63*") -> 0 | G22: =SUMIFS('Accounting data'!$G$2:$G$37000,'Accounting data'!$H$2:$H$37000,"1000*",'Accounting data'!$I$2:$I$37000,"7*",'Accounting data'!$K$2:$K$37000,"66*")+SUMIFS('Accounting data'!$G$2:$G$37000,'Accounting data'!$H$2:$H$37000,"1000*",'Accounting data'!$I$2:$I$37000,"8*",'Accounting data'!$K$2:$K$37000,"66*")+SUMIFS('Accounting data'!$G$2:$G$37000,'Accounting data'!$H$2:$H$37000,"1000*",'Accounting data'!$I$2:$I$37000,"9*",'Accounting data'!$K$2:$K$37000,"66*")+SUMIFS('Accounting data'!$G$2:$G$37000,'Accounting data'!$H$2:$H$37000,"1500*",'Accounting data'!$I$2:$I$37000,"7*",'Accounting data'!$K$2:$K$37000,"66*")+SUMIFS('Accounting data'!$G$2:$G$37000,'Accounting data'!$H$2:$H$37000,"1500*",'Accounting data'!$I$2:$I$37000,"8*",'Accounting data'!$K$2:$K$37000,"66*")+SUMIFS('Accounting data'!$G$2:$G$37000,'Accounting data'!$H$2:$H$37000,"1500*",'Accounting data'!$I$2:$I$37000,"9*",'Accounting data'!$K$2:$K$37000,"66*") -> 0 | H22: =SUMIFS('Accounting data'!$G$2:$G$37000,'Accounting data'!$H$2:$H$37000,"1000*",'Accounting data'!$I$2:$I$37000,"7*",'Accounting data'!$K$2:$K$37000,"68*")+SUMIFS('Accounting data'!$G$2:$G$37000,'Accounting data'!$H$2:$H$37000,"1000*",'Accounting data'!$I$2:$I$37000,"8*",'Accounting data'!$K$2:$K$37000,"68*")+SUMIFS('Accounting data'!$G$2:$G$37000,'Accounting data'!$H$2:$H$37000,"1000*",'Accounting data'!$I$2:$I$37000,"9*",'Accounting data'!$K$2:$K$37000,"68*")+SUMIFS('Accounting data'!$G$2:$G$37000,'Accounting data'!$H$2:$H$37000,"1500*",'Accounting data'!$I$2:$I$37000,"7*",'Accounting data'!$K$2:$K$37000,"68*")+SUMIFS('Accounting data'!$G$2:$G$37000,'Accounting data'!$H$2:$H$37000,"1500*",'Accounting data'!$I$2:$I$37000,"8*",'Accounting data'!$K$2:$K$37000,"68*")+SUMIFS('Accounting data'!$G$2:$G$37000,'Accounting data'!$H$2:$H$37000,"1500*",'Accounting data'!$I$2:$I$37000,"9*",'Accounting data'!$K$2:$K$37000,"68*") -> 0 | J22: =SUM(D22:H22) -> 0 | K22: 0 | M22: 15.
A23: Subtotal (lines 1-15) | C23: 16. | D23: =SUM(D6:D22) -> 539207 | E23: =SUM(E6:E22) -> 178200 | F23: =SUM(F6:F22) -> 379293 | G23: =SUM(G6:G22) -> 62396 | H23: =SUM(H6:H22) -> 207977 | I23: =SUM(I7:I22) -> 1361421 | J23: =SUM(J7:J22) -> 1367073 | K23: =SUM(K7:K22) -> 1635212 | L23: =IF(J23=K23,0,IF(K23>0,(J23-K23)/K23,"--")) -> -0.164 | M23: 16.
A24: 200 Special education | L24: =IF(J25=K25,0,IF(K25>0,(J25-K25)/K25,"--")) -> -0.0852
A25: 1000 Instruction | C25: 17. | D25: =SUMIFS('Accounting data'!$G$2:$G$37000,'Accounting data'!$H$2:$H$37000,"1000*",'Accounting data'!$I$2:$I$37000,"200*",'Accounting data'!$J$2:$J$37000,"1*",'Accounting data'!$K$2:$K$37000,"61*")+SUMIFS('Accounting data'!$G$2:$G$37000,'Accounting data'!$H$2:$H$37000,"1500*",'Accounting data'!$I$2:$I$37000,"200*",'Accounting data'!$J$2:$J$37000,"1*",'Accounting data'!$K$2:$K$37000,"61*")+SUMIFS('Accounting data'!$G$2:$G$37000,'Accounting data'!$H$2:$H$37000,"1000*",'Accounting data'!$I$2:$I$37000,"270*",'Accounting data'!$J$2:$J$37000,"1*",'Accounting data'!$K$2:$K$37000,"61*")+SUMIFS('Accounting data'!$G$2:$G$37000,'Accounting data'!$H$2:$H$37000,"1500*",'Accounting data'!$I$2:$I$37000,"270*",'Accounting data'!$J$2:$J$37000,"1*",'Accounting data'!$K$2:$K$37000,"61*") -> 117785 | E25: =SUMIFS('Accounting data'!$G$2:$G$37000,'Accounting data'!$H$2:$H$37000,"1000*",'Accounting data'!$I$2:$I$37000,"200*",'Accounting data'!$J$2:$J$37000,"1*",'Accounting data'!$K$2:$K$37000,"62*")+SUMIFS('Accounting data'!$G$2:$G$37000,'Accounting data'!$H$2:$H$37000,"1500*",'Accounting data'!$I$2:$I$37000,"200*",'Accounting data'!$J$2:$J$37000,"1*",'Accounting data'!$K$2:$K$37000,"62*")+SUMIFS('Accounting data'!$G$2:$G$37000,'Accounting data'!$H$2:$H$37000,"1000*",'Accounting data'!$I$2:$I$37000,"270*",'Accounting data'!$J$2:$J$37000,"1*",'Accounting data'!$K$2:$K$37000,"62*")+SUMIFS('Accounting data'!$G$2:$G$37000,'Accounting data'!$H$2:$H$37000,"1500*",'Accounting data'!$I$2:$I$37000,"270*",'Accounting data'!$J$2:$J$37000,"1*",'Accounting data'!$K$2:$K$37000,"62*") -> 34503 | F25: =SUMIFS('Accounting data'!$G$2:$G$37000,'Accounting data'!$H$2:$H$37000,"1000*",'Accounting data'!$I$2:$I$37000,"200*",'Accounting data'!$J$2:$J$37000,"1*",'Accounting data'!$K$2:$K$37000,"63*")+SUMIFS('Accounting data'!$G$2:$G$37000,'Accounting data'!$H$2:$H$37000,"1500*",'Accounting data'!$I$2:$I$37000,"200*",'Accounting data'!$J$2:$J$37000,"1*",'Accounting data'!$K$2:$K$37000,"63*")+SUMIFS('Accounting data'!$G$2:$G$37000,'Accounting data'!$H$2:$H$37000,"1000*",'Accounting data'!$I$2:$I$37000,"270*",'Accounting data'!$J$2:$J$37000,"1*",'Accounting data'!$K$2:$K$37000,"63*")+SUMIFS('Accounting data'!$G$2:$G$37000,'Accounting data'!$H$2:$H$37000,"1500*",'Accounting data'!$I$2:$I$37000,"270*",'Accounting data'!$J$2:$J$37000,"1*",'Accounting data'!$K$2:$K$37000,"63*") -> 74 | G25: =SUMIFS('Accounting data'!$G$2:$G$37000,'Accounting data'!$H$2:$H$37000,"1000*",'Accounting data'!$I$2:$I$37000,"200*",'Accounting data'!$J$2:$J$37000,"1*",'Accounting data'!$K$2:$K$37000,"66*")+SUMIFS('Accounting data'!$G$2:$G$37000,'Accounting data'!$H$2:$H$37000,"1500*",'Accounting data'!$I$2:$I$37000,"200*",'Accounting data'!$J$2:$J$37000,"1*",'Accounting data'!$K$2:$K$37000,"66*")+SUMIFS('Accounting data'!$G$2:$G$37000,'Accounting data'!$H$2:$H$37000,"1000*",'Accounting data'!$I$2:$I$37000,"270*",'Accounting data'!$J$2:$J$37000,"1*",'Accounting data'!$K$2:$K$37000,"66*")+SUMIFS('Accounting data'!$G$2:$G$37000,'Accounting data'!$H$2:$H$37000,"1500*",'Accounting data'!$I$2:$I$37000,"270*",'Accounting data'!$J$2:$J$37000,"1*",'Accounting data'!$K$2:$K$37000,"66*") -> 150 | H25: =SUMIFS('Accounting data'!$G$2:$G$37000,'Accounting data'!$H$2:$H$37000,"1000*",'Accounting data'!$I$2:$I$37000,"200*",'Accounting data'!$J$2:$J$37000,"1*",'Accounting data'!$K$2:$K$37000,"68*")+SUMIFS('Accounting data'!$G$2:$G$37000,'Accounting data'!$H$2:$H$37000,"1500*",'Accounting data'!$I$2:$I$37000,"200*",'Accounting data'!$J$2:$J$37000,"1*",'Accounting data'!$K$2:$K$37000,"68*")+SUMIFS('Accounting data'!$G$2:$G$37000,'Accounting data'!$H$2:$H$37000,"1000*",'Accounting data'!$I$2:$I$37000,"270*",'Accounting data'!$J$2:$J$37000,"1*",'Accounting data'!$K$2:$K$37000,"68*")+SUMIFS('Accounting data'!$G$2:$G$37000,'Accounting data'!$H$2:$H$37000,"1500*",'Accounting data'!$I$2:$I$37000,"270*",'Accounting data'!$J$2:$J$37000,"1*",'Accounting data'!$K$2:$K$37000,"68*") -> 0 | I25: 157987 | J25: =SUM(D25:H25) -> 152512 | K25: 166715 | M25: 17.
A26: 2000 Support services | L26: =IF(J27=K27,0,IF(K27>0,(J27-K27)/K27,"--")) -> 1.1945
